Workbook
Name _Hlk233274392: 'Lue minut'!$B$4

Sheet Lue minut
B1: Metallituotteen Uusi Elämä -hanke
B2: Suorakerrostus (DED) -korjauksen kustannusten ja energiankulutuksen (ympäristövaikutusten) elinkaarilaskentatyökalu
B3: Laskurin antamat arvot ovat riippuvaisia käyttäjän syötteistä, ja tarkoituksena on tarjota pohja jota yritys voi mukauttaa omaan käyttöönsä. Valmiiksi tarjottuja prosessiparametreja ja muita arvoja ei ole tarkoitettu yleispäteviksi. Laskentaperiaate on yksinkertaistettu kuvaus todellisesta prosessista, ja tuloksia tulee kohdella suuntaa-antavina arvoina, joita voi hyödyntää tapauskohtaisesti eri tekniikoiden ja materiaalien vertailuun.
B5: Tämä julkaisu on osa julkisten tietopakettien sarjaa, joka on tuotettu Metallituotteiden uusi elämä -hankkeessa (hankekoodi A80607) hankeen työpakettien tuloksien levittämiseen yrityksille ja muille sidosryhmille.
B6: Metallituotteiden uusi elämä on Euroopan aluekehitysrahaston (EAKR) rahoituksen saanut hanke, joka on osa Uudistuva ja osaava Suomi 2021−2027 –ohjelmassa tehtävää kehittämistoimintaa.
B7: Hankkeen kesto oli 1.1.2024 – 30.6.2026. Hankkeen osarahoittajana on ollut Euroopan unioni ja rahoittavana viranomaisena Varsinais-Suomen liitto. Hanke toteutettiin ryhmähankkeena yhteistyössä Turun ammattikorkeakoulun ja Turun yliopiston kanssa sekä yhteistyössä erityisesti Varsinais-Suomen valmistavan teollisuuden yrityksien kanssa.
B8: Hankkeen kokonaistavoiteena oli saada suomalainen ja erityisesti Varsinais-Suomen alueen teollisuus käyttämään suorakerrostustekniikkaa osien korjaamiseen, kunnostukseen ja uudelleenvalmistamiseen ja sitä kautta yritykset ottamaan kiertotalouden näkökulma osaksi heidän liiketoimintamalliaan.
B9: Terveisin,
B10: Turun ammattikorkeakoulun ja Turun yliopiston hanketiimien työpakettien tekemiseen osallistuneet työryhmän henkilöt

Sheet UI
B1: Turun yliopiston ja Turun ammattikorkeakoulun Metallituotteen Uusi Elämä -hanke | LCA/LCC laskentatyökalu
B3: Tämä on laskurin käyttöliittymä. Syötä tapauksesi tiedot tähän. Laskentasivu noutaa tarvittavat arvot täältä tai Materiaali-välilehdeltä valitsemasi materiaalin mukaan. Energia- ja Kustannus-välilehdiltä löydät laskennan tuottamaa dataa havainnollistavia, automaattisesti päivittyviä kuvaajia.
B4: Materiaalit
B6: Pinnoitusmateriaali | C6: Stellite | D6: Valitse materiaali pudotusvalikosta | G6: Materiaalivalikoima (jos lisäät uusia materiaaleja "materiaali" välilehdelle, lisää sen nimi tähän perään jotta näkyvät pudotusvalikossa)
B7: Vaikuttaa pinnoituksen parametreihin, kustannuksiin, ja ympäristövaikutuksiin | G7: Stellite | H7: Teräs | I7: 316L
B9: Osan materiaali | C9: Teräs | D9: Oletuksena laskennassa teräs
B10: Vaikuttaa uuden osan ympäristövaikutuksiin
B13: Suojakaasu - Oletuksena Argon; jos käytössä sekoitus, lisää kaasun 2 tiedot "Materiaali" välilehdellä
B14: Argon osuus (%) | C14: 1 | D14: =IF(C14+C15>1,"Yli 100%!"," ")
B15: Kaasu 2 osuus (%) | C15: =1-C14 -> 0
B18: Parametrit
B20: Vähimmäisylimitta (koneistusvara), mm | C20: Valokaari/lanka | D20: Laser/jauho | E20: Laser/lanka
C21: Suositus 1-4mm | D21: Suositus 0.5-1mm | E21: Suositus 1-2mm
C22: =0.5*C26 -> 1.5 | D22: =0.5*D26 -> 0.5 | E22: =0.5*E26 -> 0.5
B24: Kerrospaksuus, mm | C24: Valokaari/lanka | D24: Laser/jauho | E24: Laser/lanka
C25: Suositus 1-5mm | D25: Suositus 0.5-1.5mm | E25: Suositus 1-2mm
C26: 3 | D26: 1 | E26: 1
B29: Case
B30: Sylinterin pinnoitus (esim akselin kuluma; esikoneistuksen määrä riippuu kuluman tasaisuudesta)
C31: Valokaari/lanka | D31: =C31 -> Valokaari/lanka
B32: Pituus, mm | C32: 400 | D32: =C32 -> 400 | E32: =D32 -> 400
B33: Nimellinen halkaisija, mm | C33: 300 | D33: =C33 -> 300 | E33: =D33 -> 300 | F33: (uuden osan halkaisija/korjauksen jälkeen)
B34: Kulunut halkaisija, mm | C34: 299 | D34: =C34 -> 299 | E34: =D34 -> 299 | F34: (mitattu kuluneesta osasta)
B35: Esikoneistettu halkaisija, mm | C35: =C34-1 -> 298 | D35: =C35 -> 298 | E35: =D35 -> 298 | F35: (kulunut pinta poistettu, tasainen lieriöpinta; riippuu eniten/vähiten kuluneiden kohtien erosta)
B36: Pinnoitettu paksuus, mm | C36: =C33/2-C35/2 -> 1 | D36: =C36 -> 1 | E36: =D36 -> 1
B40: Elinkaarivaikutukset (kestävämmän pinnoituksen tuoma pidempi käyttöikä)
B41: Uuden osan hinta/hankintakustannus, €
B42: Mitä korjauksen vaihtoehto maksaa
B43: Osan tyypllinen elinikä, v | C43: 2 | D43: 2 | E43: 2
B44: Kuinka kauan käytössä kunnes vaatii uusimista
B45: Vastaavan osan käyttöikä/tarve, v | C45: 10 | D45: 10 | E45: 10
B46: Kuinka kauan osaa tullaan tarvitsemaan

Sheet Materiaali
B1: Tämä välilehti sisältää materiaalikohtaiset elinkaari-inventaariotiedot (energiankulutuksen ja hinnat) sekä prosessiparametrit. Voit lisätä uusia materiaaleja tai muokata nykyisiä tällä välilehdellä.
B2: Stellite | E2: Teräs (s355, er70) | H2: Ruostumaton teräs (316L)
A3: Valittu materiaali | B3: DED-Arc | C3: DED-LB/powder | D3: DED-LB/wire | E3: DED-Arc | F3: DED-LB/powder | G3: DED-LB/wire | H3: DED-Arc | I3: DED-LB/powder | J3: DED-LB/wire
A4: Tiheys | B4: 8900 | C4: 8900 | D4: 8900 | E4: 7850 | F4: 7850 | G4: 7850 | H4: 7980 | I4: 7980 | J4: 7980 | K4: kg/m3
A6: Jännite | B6: 18.2 | E6: 18 | H6: 16.5
A7: Virta | B7: 180 | E7: 175 | H7: 130
A8: Laser/valokaari teho | B8: =B6*B7 -> 3276 | C8: 3000 | D8: =J8 -> 1200 | E8: =E6*E7 -> 3150 | F8: =I8 -> 3000 | G8: 1200 | H8: =H6*H7 -> 2145 | I8: 3000 | J8: 1200 | K8: W
A9: Hyötysuhde | B9: 0.8 | C9: 0.45 | D9: 0.45 | E9: 0.8 | F9: =I9 -> 0.45 | G9: 0.45 | H9: =B9 -> 0.8 | I9: =C9 -> 0.45 | J9: =D9 -> 0.45 | K9: %
A10: Sähköteho | D10: =J10 -> 0 | K10: W
A11: Liikenopeus | B11: 25 | C11: =800/60 -> 13.333333 | D11: =J11 -> 16.666667 | E11: =700/60 -> 11.666667 | F11: =I11 -> 27 | G11: =1000/60 -> 16.666667 | H11: =H8/300 -> 7.15 | I11: 27 | J11: =1000/60 -> 16.666667 | K11: mm/s
A12: Langan säde | B12: 0.6 | D12: =J12 -> 0.5 | E12: 0.6 | G12: 0.5 | H12: 0.5 | J12: 0.5 | K12: mm
A13: Langansyöttö | B13: 67 | D13: =J13 -> 18.333333 | E13: =5000/60 -> 83.333333 | G13: =1100/60 -> 18.333333 | H13: =(8*1000)/60 -> 133.33333 | J13: =1100/60 -> 18.333333 | K13: mm/s
A14: Jauhonsyöttö | C14: =25/60 -> 0.41666667 | D14: =J14 -> 0 | F14: =I14 -> 0.24333333 | I14: =14.6/60 -> 0.24333333 | K14: g/s
A15: Suojakaasuvirta | B15: =18/60 -> 0.3 | C15: =9.5/60 -> 0.15833333 | D15: =J15 -> 0.33333333 | E15: =20/60 -> 0.33333333 | F15: =I15 -> 0.45 | G15: =20/60 -> 0.33333333 | H15: 0.4 | I15: =27/60 -> 0.45 | J15: =20/60 -> 0.33333333 | K15: l/s
A17: MRR/Aineenpoisto | B17: 4 | C17: 4 | D17: 4 | E17: 25 | F17: 25 | G17: 25 | H17: 10 | I17: 10 | J17: 10 | K17: cm3/min
A18: Työkalun kuluma | L18: Ei implementoitu, mutta työkalukustannukset voidaan laskea esim per koneistettu kg
A20: Ominaisenergia alkuperäinen mat | B20: 108 | C20: 108 | D20: 108 | E20: 25 | F20: 25 | G20: 25 | H20: 57 | I20: 57 | J20: 57 | K20: MJ/kg
A21: Ominaisenergia kerrostusmat | B21: 108 | C21: 108 | D21: 108 | E21: 25 | F21: 25 | G21: 25 | H21: 57 | I21: 57 | J21: 57 | K21: MJ/kg
A22: Ominaisenergia valssaus | B22: 20 | C22: 20 | D22: 20 | E22: 20 | F22: 20 | G22: 20 | H22: 20 | I22: 20 | J22: 20 | K22: MJ/kg
A23: Ominaisenergia lisäaineen valm | B23: 0.5 | C23: 50 | D23: 0.5 | E23: 0.5 | F23: 50 | G23: 0.5 | H23: 0.5 | I23: 50 | J23: 0.5 | K23: MJ/kg
A24: Ominaisenergia koneistus | B24: =(2.093+4.415/(B17/60))/1000/(B4/1000000) -> 7.6761798 | C24: =(2.093+4.415/(C17/60))/1000/(C4/1000000) -> 7.6761798 | D24: =(2.093+4.415/(D17/60))/1000/(D4/1000000) -> 7.6761798 | E24: =(2.093+4.415/(E17/60))/1000/(E4/1000000) -> 1.6164331 | F24: =(2.093+4.415/(F17/60))/1000/(F4/1000000) -> 1.6164331 | G24: =(2.093+4.415/(G17/60))/1000/(G4/1000000) -> 1.6164331 | H24: =(2.093+4.415/(H17/60))/1000/(H4/1000000) -> 3.5818296 | I24: =(2.093+4.415/(I17/60))/1000/(I4/1000000) -> 3.5818296 | J24: =(2.093+4.415/(J17/60))/1000/(J4/1000000) -> 3.5818296 | K24: MJ/kg
A25: Ominaisenergia Argon
A26: Ominaisenergia CO2
A27: Hinta Argon
A28: Hinta CO2
A29: Hinta lanka/jauho | B29: 65 | C29: 170 | D29: 65 | E29: 2 | F29: 50 | G29: 2 | H29: 15 | I29: 100 | J29: 15 | K29: €/kg
A30: Pinnoitus käyttöiän kerroin | B30: 2 | C30: 2 | D30: 2 | E30: 1 | F30: 1 | G30: 1 | H30: 1 | I30: 1 | J30: 1 | K30: - | L30: Riippuu käyttökohteesta; arvioi kuinka monta kertaa kauemmin tämä materiaali kestää verrattuna osan alkuperäiseen
A31: Alkup. Käyttöiän kerroin | B31: 2 | C31: 2 | D31: 2 | E31: 1 | F31: 1 | G31: 1 | H31: 1 | I31: 1 | J31: 1 | K31: -

Sheet Laskenta
B1: DED-Arc | C1: DED-LB/powder | D1: DED-LB/wire | E1: Yksikkö
A2: Vähimmäis ylimitta | B2: =UI!C22 -> 1.5 | C2: =UI!D22 -> 0.5 | D2: =UI!E22 -> 0.5 | E2: mm
A3: Kerrospaksuus | B3: =UI!C26 -> 3 | C3: =UI!D26 -> 1 | D3: =UI!E26 -> 1 | E3: mm | G3: Värikoodaus
A4: Pituus | B4: =UI!C32 -> 400 | C4: =UI!D32 -> 400 | D4: =UI!E32 -> 400 | E4: mm | G4: Valkoinen | H4: Laskentasolu; muokkaa jos haluat kustomoida laskentakaavoja
A5: Säde alkuperäinen | B5: =UI!C33/2 -> 150 | C5: =UI!D33/2 -> 150 | D5: =UI!E33/2 -> 150 | E5: mm | G5: Punainen | H5: Solu hakee tietonsa toiselta välilehdeltä; muokkaa tietoja vain siellä, ei tässä taulukossa
A6: Säde ennen esikon. | B6: =UI!C34/2 -> 149.5 | C6: =UI!D34/2 -> 149.5 | D6: =UI!E34/2 -> 149.5 | E6: mm | G6: Keltainen | H6: Tapauskohtaiset tiedot, suositellaan muokattaviksi suoraan tässä taulukossa
A7: Säde ennen kerrostus | B7: =UI!C35/2 -> 149 | C7: =UI!D35/2 -> 149 | D7: =UI!E35/2 -> 149 | E7: mm
A8: Nimellinen kerrostuspaksuus | B8: =B5-B7 -> 1 | C8: =C5-C7 -> 1 | D8: =D5-D7 -> 1 | E8: mm
A9: Tod minimi kerrostuspaksuus | B9: =IF(((ROUNDUP((B8)/B3,0)*B3))<(B8+B2),(ROUNDUP((B8+B2)/B3,0)*B3),(ROUNDUP((B8)/B3,0)*B3)) -> 3 | C9: =IF(((ROUNDUP((C8)/C3,0)*C3))<(C8+C2),(ROUNDUP((C8+C2)/C3,0)*C3),(ROUNDUP((C8)/C3,0)*C3)) -> 2 | D9: =IF(((ROUNDUP((D8)/D3,0)*D3))<(D8+D2),(ROUNDUP((D8+D2)/D3,0)*D3),(ROUNDUP((D8)/D3,0)*D3)) -> 2 | E9: mm
A10: Keskisäde kerrostuksen jälkeen | B10: =B7+B9 -> 152 | C10: =C7+C9 -> 151 | D10: =D7+D9 -> 151 | E10: mm
A11: Ylimitta | B11: =B9-B8 -> 2 | C11: =C9-C8 -> 1 | D11: =D9-D8 -> 1 | E11: mm
A12: Alkuperäisen osan massa | B12: =(PI()*B4*B5^2)*B17 -> 251.64157 | C12: =(PI()*C4*C5^2)*C17 -> 251.64157 | D12: =(PI()*D4*D5^2)*D17 -> 251.64157 | E12: kg
A14: Valittu materiaali | B14: {=_xlfn.IFS(UI!$C$6=UI!$G$7,Materiaali!B2,UI!$C$6=UI!$H$7,Materiaali!E2,UI!$C$6=UI!$I$7,Materiaali!H2,UI!$C$6=UI!$J$7,Materiaali!K2,UI!$C$6=UI!$K$7,Materiaali!N2)} -> Stellite
A15: Tiheys | B15: {=_xlfn.IFS(UI!$C$6=UI!$G$7,Materiaali!B4,UI!$C$6=UI!$H$7,Materiaali!E4,UI!$C$6=UI!$I$7,Materiaali!H4,UI!$C$6=UI!$J$7,Materiaali!K4,UI!$C$6=UI!$K$7,Materiaali!N4)} -> 8900 | C15: {=_xlfn.IFS(UI!$C$6=UI!$G$7,Materiaali!C4,UI!$C$6=UI!$H$7,Materiaali!F4,UI!$C$6=UI!$I$7,Materiaali!I4,UI!$C$6=UI!$J$7,Materiaali!L4,UI!$C$6=UI!$K$7,Materiaali!O4)} -> 8900 | D15: {=_xlfn.IFS(UI!$C$6=UI!$G$7,Materiaali!D4,UI!$C$6=UI!$H$7,Materiaali!G4,UI!$C$6=UI!$I$7,Materiaali!J4,UI!$C$6=UI!$J$7,Materiaali!M4,UI!$C$6=UI!$K$7,Materiaali!P4)} -> 8900 | E15: kg/m3
A16: Tiheys /cm3 | B16: =B15/1000000 -> 0.0089 | C16: =C15/1000000 -> 0.0089 | D16: =D15/1000000 -> 0.0089 | E16: kg/cm3
A17: Tiheys /mm3 | B17: =B15/1000000000 -> 8.9e-06 | C17: =C15/1000000000 -> 8.9e-06 | D17: =D15/1000000000 -> 8.9e-06 | E17: kg/mm3
A18: Lask. kerrostettu massa | B18: =((PI()*B10^2*B4)-(PI()*B7^2*B4))*B17 -> 10.099215 | C18: =((PI()*C10^2*C4)-(PI()*C7^2*C4))*C17 -> 6.7104419 | D18: =((PI()*D10^2*D4)-(PI()*D7^2*D4))*D17 -> 6.7104419 | E18: kg
A19: Lask. Esikoneistettu massa | B19: =((PI()*B6^2*B4)-(PI()*B7^2*B4))*B17 -> 1.6692224 | C19: =((PI()*C6^2*C4)-(PI()*C7^2*C4))*C17 -> 1.6692224 | D19: =((PI()*D6^2*D4)-(PI()*D7^2*D4))*D17 -> 1.6692224 | E19: kg
A20: Lask. Jälkikoneistettu massa | B20: =((PI()*B10^2*B4)-(PI()*B5^2*B4))*B17 -> 6.7551782 | C20: =((PI()*C10^2*C4)-(PI()*C5^2*C4))*C17 -> 3.366405 | D20: =((PI()*D10^2*D4)-(PI()*D5^2*D4))*D17 -> 3.366405 | E20: kg
A21: Haluttu massan lisäys | B21: =((PI()*B5^2*B4)-(PI()*B6^2*B4))*B17 -> 1.6748145 | C21: =((PI()*C5^2*C4)-(PI()*C6^2*C4))*C17 -> 1.6748145 | D21: =((PI()*D5^2*D4)-(PI()*D6^2*D4))*D17 -> 1.6748145 | E21: kg
A23: Jännite | B23: {=_xlfn.IFS(UI!$C$6=UI!$G$7,Materiaali!B6,UI!$C$6=UI!$H$7,Materiaali!E6,UI!$C$6=UI!$I$7,Materiaali!H6,UI!$C$6=UI!$J$7,Materiaali!K6,UI!$C$6=UI!$K$7,Materiaali!N6)} -> 18.2 | E23: V
A24: Virta | B24: {=_xlfn.IFS(UI!$C$6=UI!$G$7,Materiaali!B7,UI!$C$6=UI!$H$7,Materiaali!E7,UI!$C$6=UI!$I$7,Materiaali!H7,UI!$C$6=UI!$J$7,Materiaali!K7,UI!$C$6=UI!$K$7,Materiaali!N7)} -> 180 | E24: A
A25: Laser/valokaari teho | B25: {=_xlfn.IFS(UI!$C$6=UI!$G$7,Materiaali!B8,UI!$C$6=UI!$H$7,Materiaali!E8,UI!$C$6=UI!$I$7,Materiaali!H8,UI!$C$6=UI!$J$7,Materiaali!K8,UI!$C$6=UI!$K$7,Materiaali!N8)} -> 3276 | C25: {=_xlfn.IFS(UI!$C$6=UI!$G$7,Materiaali!C8,UI!$C$6=UI!$H$7,Materiaali!F8,UI!$C$6=UI!$I$7,Materiaali!I8,UI!$C$6=UI!$J$7,Materiaali!L8,UI!$C$6=UI!$K$7,Materiaali!O8)} -> 3000 | D25: {=_xlfn.IFS(UI!$C$6=UI!$G$7,Materiaali!D8,UI!$C$6=UI!$H$7,Materiaali!G8,UI!$C$6=UI!$I$7,Materiaali!J8,UI!$C$6=UI!$J$7,Materiaali!M8,UI!$C$6=UI!$K$7,Materiaali!P8)} -> 1200 | E25: W
A26: Hyötysuhde | B26: {=_xlfn.IFS(UI!$C$6=UI!$G$7,Materiaali!B9,UI!$C$6=UI!$H$7,Materiaali!E9,UI!$C$6=UI!$I$7,Materiaali!H9,UI!$C$6=UI!$J$7,Materiaali!K9,UI!$C$6=UI!$K$7,Materiaali!N9)} -> 0.8 | C26: {=_xlfn.IFS(UI!$C$6=UI!$G$7,Materiaali!C9,UI!$C$6=UI!$H$7,Materiaali!F9,UI!$C$6=UI!$I$7,Materiaali!I9,UI!$C$6=UI!$J$7,Materiaali!L9,UI!$C$6=UI!$K$7,Materiaali!O9)} -> 0.45 | D26: {=_xlfn.IFS(UI!$C$6=UI!$G$7,Materiaali!D9,UI!$C$6=UI!$H$7,Materiaali!G9,UI!$C$6=UI!$I$7,Materiaali!J9,UI!$C$6=UI!$J$7,Materiaali!M9,UI!$C$6=UI!$K$7,Materiaali!P9)} -> 0.45 | E26: %
A27: Sähköteho | B27: =B25/B26 -> 4095 | C27: =C25/C26 -> 6666.6667 | D27: =D25/D26 -> 2666.6667 | E27: W
A28: Liikenopeus | B28: {=_xlfn.IFS(UI!$C$6=UI!$G$7,Materiaali!B11,UI!$C$6=UI!$H$7,Materiaali!E11,UI!$C$6=UI!$I$7,Materiaali!H11,UI!$C$6=UI!$J$7,Materiaali!K11,UI!$C$6=UI!$K$7,Materiaali!N11)} -> 25 | C28: {=_xlfn.IFS(UI!$C$6=UI!$G$7,Materiaali!C11,UI!$C$6=UI!$H$7,Materiaali!F11,UI!$C$6=UI!$I$7,Materiaali!I11,UI!$C$6=UI!$J$7,Materiaali!L11,UI!$C$6=UI!$K$7,Materiaali!O11)} -> 13.333333 | D28: {=_xlfn.IFS(UI!$C$6=UI!$G$7,Materiaali!D11,UI!$C$6=UI!$H$7,Materiaali!G11,UI!$C$6=UI!$I$7,Materiaali!J11,UI!$C$6=UI!$J$7,Materiaali!M11,UI!$C$6=UI!$K$7,Materiaali!P11)} -> 16.666667 | E28: mm/s
A29: Langan säde | B29: {=_xlfn.IFS(UI!$C$6=UI!$G$7,Materiaali!B12,UI!$C$6=UI!$H$7,Materiaali!E12,UI!$C$6=UI!$I$7,Materiaali!H12,UI!$C$6=UI!$J$7,Materiaali!K12,UI!$C$6=UI!$K$7,Materiaali!N12)} -> 0.6 | C29: {=_xlfn.IFS(UI!$C$6=UI!$G$7,Materiaali!C12,UI!$C$6=UI!$H$7,Materiaali!F12,UI!$C$6=UI!$I$7,Materiaali!I12,UI!$C$6=UI!$J$7,Materiaali!L12,UI!$C$6=UI!$K$7,Materiaali!O12)} -> 0 | D29: {=_xlfn.IFS(UI!$C$6=UI!$G$7,Materiaali!D12,UI!$C$6=UI!$H$7,Materiaali!G12,UI!$C$6=UI!$I$7,Materiaali!J12,UI!$C$6=UI!$J$7,Materiaali!M12,UI!$C$6=UI!$K$7,Materiaali!P12)} -> 0.5 | E29: mm
A30: Langansyöttö | B30: {=_xlfn.IFS(UI!$C$6=UI!$G$7,Materiaali!B13,UI!$C$6=UI!$H$7,Materiaali!E13,UI!$C$6=UI!$I$7,Materiaali!H13,UI!$C$6=UI!$J$7,Materiaali!K13,UI!$C$6=UI!$K$7,Materiaali!N13)} -> 67 | C30: {=_xlfn.IFS(UI!$C$6=UI!$G$7,Materiaali!C13,UI!$C$6=UI!$H$7,Materiaali!F13,UI!$C$6=UI!$I$7,Materiaali!I13,UI!$C$6=UI!$J$7,Materiaali!L13,UI!$C$6=UI!$K$7,Materiaali!O13)} -> 0 | D30: {=_xlfn.IFS(UI!$C$6=UI!$G$7,Materiaali!D13,UI!$C$6=UI!$H$7,Materiaali!G13,UI!$C$6=UI!$I$7,Materiaali!J13,UI!$C$6=UI!$J$7,Materiaali!M13,UI!$C$6=UI!$K$7,Materiaali!P13)} -> 18.333333 | E30: mm/s
A31: Jauhonsyöttö | B31: {=_xlfn.IFS(UI!$C$6=UI!$G$7,Materiaali!B14,UI!$C$6=UI!$H$7,Materiaali!E14,UI!$C$6=UI!$I$7,Materiaali!H14,UI!$C$6=UI!$J$7,Materiaali!K14,UI!$C$6=UI!$K$7,Materiaali!N14)} -> 0 | C31: {=_xlfn.IFS(UI!$C$6=UI!$G$7,Materiaali!C14,UI!$C$6=UI!$H$7,Materiaali!F14,UI!$C$6=UI!$I$7,Materiaali!I14,UI!$C$6=UI!$J$7,Materiaali!L14,UI!$C$6=UI!$K$7,Materiaali!O14)} -> 0.41666667 | D31: {=_xlfn.IFS(UI!$C$6=UI!$G$7,Materiaali!D14,UI!$C$6=UI!$H$7,Materiaali!G14,UI!$C$6=UI!$I$7,Materiaali!J14,UI!$C$6=UI!$J$7,Materiaali!M14,UI!$C$6=UI!$K$7,Materiaali!P14)} -> 0 | E31: g/s
A32: Suojakaasuvirta | B32: {=_xlfn.IFS(UI!$C$6=UI!$G$7,Materiaali!B15,UI!$C$6=UI!$H$7,Materiaali!E15,UI!$C$6=UI!$I$7,Materiaali!H15,UI!$C$6=UI!$J$7,Materiaali!K15,UI!$C$6=UI!$K$7,Materiaali!N15)} -> 0.3 | C32: {=_xlfn.IFS(UI!$C$6=UI!$G$7,Materiaali!C15,UI!$C$6=UI!$H$7,Materiaali!F15,UI!$C$6=UI!$I$7,Materiaali!I15,UI!$C$6=UI!$J$7,Materiaali!L15,UI!$C$6=UI!$K$7,Materiaali!O15)} -> 0.15833333 | D32: {=_xlfn.IFS(UI!$C$6=UI!$G$7,Materiaali!D15,UI!$C$6=UI!$H$7,Materiaali!G15,UI!$C$6=UI!$I$7,Materiaali!J15,UI!$C$6=UI!$J$7,Materiaali!M15,UI!$C$6=UI!$K$7,Materiaali!P15)} -> 0.33333333 | E32: l/s
A33: Keskituottavuus (mat.syöttö) | B33: =((B29^2*PI()*B30)*B17)*B46*3600 -> 2.306446 | C33: =C31*C46*3.6 -> 0.75 | D33: =((D29^2*PI()*D30)*D17)*D46*3600 -> 0.43827574 | E33: kg/h
A34: Jäähdytys hyötysuhde (COP) | B34: 1 | C34: 1 | D34: 1 | F34: Jos relevantti
A35: Jäähdytys sähköteho | B35: =(B25/B26-B25)/B34 -> 819 | C35: =(C25/C26-C25)/C34 -> 3666.6667 | D35: =(D25/D26-D25)/D34 -> 1466.6667 | E35: W | F35: Huom. Laskennallinen arvo; korvaa tunnetulla arvolla jos mahdollista
A37: Työstöaika (keskituottavuus/massa) | B37: =B18/B33 -> 4.3786913 | C37: =C18/C33 -> 8.9472559 | D37: =D18/D33 -> 15.311005 | E37: h
A39: MRR/Aineenpoisto | B39: {=_xlfn.IFS(UI!$C$6=UI!$G$7,Materiaali!B17,UI!$C$6=UI!$H$7,Materiaali!E17,UI!$C$6=UI!$I$7,Materiaali!H17,UI!$C$6=UI!$J$7,Materiaali!K17,UI!$C$6=UI!$K$7,Materiaali!N17)} -> 4 | C39: {=_xlfn.IFS(UI!$C$6=UI!$G$7,Materiaali!C17,UI!$C$6=UI!$H$7,Materiaali!F17,UI!$C$6=UI!$I$7,Materiaali!I17,UI!$C$6=UI!$J$7,Materiaali!L17,UI!$C$6=UI!$K$7,Materiaali!O17)} -> 4 | D39: {=_xlfn.IFS(UI!$C$6=UI!$G$7,Materiaali!D17,UI!$C$6=UI!$H$7,Materiaali!G17,UI!$C$6=UI!$I$7,Materiaali!J17,UI!$C$6=UI!$J$7,Materiaali!M17,UI!$C$6=UI!$K$7,Materiaali!P17)} -> 4 | E39: cm3/min
A40: CNC käyttöaika | B40: =(B20)/((B39*(B15/1000000))*60)+((B19)/((Materiaali!E17*(B15/1000000))*60)) -> 3.287572 | C40: =(C20)/((C39*(C15/1000000))*60)+((C19)/((Materiaali!F17*(C15/1000000))*60)) -> 1.7010677 | D40: =(D20)/((D39*(D15/1000000))*60)+((D19)/((Materiaali!G17*(D15/1000000))*60)) -> 1.7010677 | E40: h | F40: Huom. esikoneistus laskettu aina teräksen perusteella
A42: Argonin osuus suojakaasusta | B42: =UI!$C14 -> 1 | C42: =UI!$C14 -> 1 | D42: =UI!$C14 -> 1
A43: Toisen kaasun osuus suojakaasusta | B43: =UI!$C15 -> 0 | C43: =UI!$C15 -> 0 | D43: =UI!$C15 -> 0
A46: Mat hyötysuhde prosessi | B46: 0.95 | C46: 0.5 | D46: 0.95 | F46: Etenkin DED-LB/Powder hyötysuhde (catchment efficiency) prosessikohtainen
A47: Mat hyötysuhde valssaus | B47: 0.95 | C47: 0.95 | D47: 0.95
A48: Mat hyötysuhde langanveto/atomisointi (lisäaineen valm) | B48: 0.88 | C48: 0.95 | D48: 0.88
A50: Ominaisenergia alkuperäinen mat | B50: {=_xlfn.IFS(UI!$C$6=UI!$G$7,Materiaali!B20,UI!$C$6=UI!$H$7,Materiaali!E20,UI!$C$6=UI!$I$7,Materiaali!H20,UI!$C$6=UI!$J$7,Materiaali!K20,UI!$C$6=UI!$K$7,Materiaali!N20)} -> 108 | C50: {=_xlfn.IFS(UI!$C$6=UI!$G$7,Materiaali!C20,UI!$C$6=UI!$H$7,Materiaali!F20,UI!$C$6=UI!$I$7,Materiaali!I20,UI!$C$6=UI!$J$7,Materiaali!L20,UI!$C$6=UI!$K$7,Materiaali!O20)} -> 108 | D50: {=_xlfn.IFS(UI!$C$6=UI!$G$7,Materiaali!D20,UI!$C$6=UI!$H$7,Materiaali!G20,UI!$C$6=UI!$I$7,Materiaali!J20,UI!$C$6=UI!$J$7,Materiaali!M20,UI!$C$6=UI!$K$7,Materiaali!P20)} -> 108 | E50: MJ/kg
A51: Ominaisenergia kerrostusmat | B51: {=_xlfn.IFS(UI!$C$6=UI!$G$7,Materiaali!B21,UI!$C$6=UI!$H$7,Materiaali!E21,UI!$C$6=UI!$I$7,Materiaali!H21,UI!$C$6=UI!$J$7,Materiaali!K21,UI!$C$6=UI!$K$7,Materiaali!N21)} -> 108 | C51: {=_xlfn.IFS(UI!$C$6=UI!$G$7,Materiaali!C21,UI!$C$6=UI!$H$7,Materiaali!F21,UI!$C$6=UI!$I$7,Materiaali!I21,UI!$C$6=UI!$J$7,Materiaali!L21,UI!$C$6=UI!$K$7,Materiaali!O21)} -> 108 | D51: {=_xlfn.IFS(UI!$C$6=UI!$G$7,Materiaali!D21,UI!$C$6=UI!$H$7,Materiaali!G21,UI!$C$6=UI!$I$7,Materiaali!J21,UI!$C$6=UI!$J$7,Materiaali!M21,UI!$C$6=UI!$K$7,Materiaali!P21)} -> 108 | E51: MJ/kg
A52: Ominaisenergia valssaus | B52: {=_xlfn.IFS(UI!$C$6=UI!$G$7,Materiaali!B22,UI!$C$6=UI!$H$7,Materiaali!E22,UI!$C$6=UI!$I$7,Materiaali!H22,UI!$C$6=UI!$J$7,Materiaali!K22,UI!$C$6=UI!$K$7,Materiaali!N22)} -> 20 | C52: {=_xlfn.IFS(UI!$C$6=UI!$G$7,Materiaali!C22,UI!$C$6=UI!$H$7,Materiaali!F22,UI!$C$6=UI!$I$7,Materiaali!I22,UI!$C$6=UI!$J$7,Materiaali!L22,UI!$C$6=UI!$K$7,Materiaali!O22)} -> 20 | D52: {=_xlfn.IFS(UI!$C$6=UI!$G$7,Materiaali!D22,UI!$C$6=UI!$H$7,Materiaali!G22,UI!$C$6=UI!$I$7,Materiaali!J22,UI!$C$6=UI!$J$7,Materiaali!M22,UI!$C$6=UI!$K$7,Materiaali!P22)} -> 20 | E52: MJ/kg
A53: Ominaisenergia lisäaineen valm | B53: {=_xlfn.IFS(UI!$C$6=UI!$G$7,Materiaali!B23,UI!$C$6=UI!$H$7,Materiaali!E23,UI!$C$6=UI!$I$7,Materiaali!H23,UI!$C$6=UI!$J$7,Materiaali!K23,UI!$C$6=UI!$K$7,Materiaali!N23)} -> 0.5 | C53: {=_xlfn.IFS(UI!$C$6=UI!$G$7,Materiaali!C23,UI!$C$6=UI!$H$7,Materiaali!F23,UI!$C$6=UI!$I$7,Materiaali!I23,UI!$C$6=UI!$J$7,Materiaali!L23,UI!$C$6=UI!$K$7,Materiaali!O23)} -> 50 | D53: {=_xlfn.IFS(UI!$C$6=UI!$G$7,Materiaali!D23,UI!$C$6=UI!$H$7,Materiaali!G23,UI!$C$6=UI!$I$7,Materiaali!J23,UI!$C$6=UI!$J$7,Materiaali!M23,UI!$C$6=UI!$K$7,Materiaali!P23)} -> 0.5 | E53: MJ/kg
A54: Ominaisenergia koneistus | B54: {=_xlfn.IFS(UI!$C$6=UI!$G$7,Materiaali!B24,UI!$C$6=UI!$H$7,Materiaali!E24,UI!$C$6=UI!$I$7,Materiaali!H24,UI!$C$6=UI!$J$7,Materiaali!K24,UI!$C$6=UI!$K$7,Materiaali!N24)} -> 7.6761798 | C54: {=_xlfn.IFS(UI!$C$6=UI!$G$7,Materiaali!C24,UI!$C$6=UI!$H$7,Materiaali!F24,UI!$C$6=UI!$I$7,Materiaali!I24,UI!$C$6=UI!$J$7,Materiaali!L24,UI!$C$6=UI!$K$7,Materiaali!O24)} -> 7.6761798 | D54: {=_xlfn.IFS(UI!$C$6=UI!$G$7,Materiaali!D24,UI!$C$6=UI!$H$7,Materiaali!G24,UI!$C$6=UI!$I$7,Materiaali!J24,UI!$C$6=UI!$J$7,Materiaali!M24,UI!$C$6=UI!$K$7,Materiaali!P24)} -> 7.6761798 | E54: MJ/kg
A55: Ominaisenergia Argon | B55: 0.009 | C55: 0.009 | D55: 0.009 | E55: MJ/l
A56: Ominaisenergia kaasu 2 | E56: MJ/l | F56: Käyttäjä voi syöttää jos käytössä kaasusekoitus
A58: Massa ennen kerrostusta | B58: =B$18/B46 -> 10.630753 | C58: =C$18/C46 -> 13.420884 | D58: =D$18/D46 -> 7.0636231 | E58: kg
A59: Massa ennen lisäaineen valmist | B59: =B58/B47 -> 11.190266 | C59: =C58/C47 -> 14.127246 | D59: =D58/D47 -> 7.4353927 | E59: kg
A60: Massa ennen valssaus (primääri) | B60: =B59/B48 -> 12.716211 | C60: =C59/C48 -> 14.870785 | D60: =D59/D48 -> 8.4493099 | E60: kg
A62: Energia raakamateriaali | B62: =B60*B51 -> 1373.3508 | C62: =C60*C51 -> 1606.0448 | D62: =D60*D51 -> 912.52547 | E62: MJ
A63: Energia valssaus | B63: =B60*B52 -> 254.32423 | C63: =C60*C52 -> 297.41571 | D63: =D60*D52 -> 168.9862 | E63: MJ
A64: Energia langanveto/atomisointi | B64: =B59*B53 -> 5.595133 | C64: =C59*C53 -> 706.36231 | D64: =D59*D53 -> 3.7176963 | E64: MJ
A65: Energia lisäaine | B65: =SUM(B62:B64) -> 1633.2702 | C65: =SUM(C62:C64) -> 2609.8228 | D65: =SUM(D62:D64) -> 1085.2294 | E65: MJ
A67: Energia suojakaasu | B67: =(B32*B37*3600)*B42*B55+(B32*B37*3600)*B43*B56 -> 42.56088 | C67: =(C32*C37*3600)*C42*C55+(C32*C37*3600)*C43*C56 -> 45.899423 | D67: =(D32*D37*3600)*D42*D55+(D32*D37*3600)*D43*D56 -> 165.35885 | E67: MJ
A69: Sähköenergia kerrostus | B69: =(B27*B37)*3.6/1000 -> 64.550668 | C69: =(C27*C37)*3.6/1000 -> 214.73414 | D69: =(D27*D37)*3.6/1000 -> 146.98565 | E69: MJ
A70: Energia kerrostus per kg | B70: =B69/B18 -> 6.391652 | C70: =C69/C18 -> 32 | D70: =D69/D18 -> 21.904019 | E70: mj/kg
A71: Sähköenergia jäähdytys ym | B71: =(B35*B37)*3.6/1000 -> 12.910134 | C71: =(C35*C37)*3.6/1000 -> 118.10378 | D71: =(D35*D37)*3.6/1000 -> 80.842105 | E71: MJ
A72: Sähköenergia prosessi | B72: =SUM(B69,B71) -> 77.460801 | C72: =SUM(C69,C71) -> 332.83792 | D72: =SUM(D69,D71) -> 227.82775 | E72: MJ
A73: Sähköenergia koneistus | B73: =B54*(B20+B19) -> 64.667214 | C73: =C54*(C20+C19) -> 38.654382 | D73: =D54*(D20+D19) -> 38.654382 | E73: MJ
A75: Korjauksen energia, total | B75: =SUM(B65,B67,B72,B73) -> 1817.9591 | C75: =SUM(C65,C67,C72,C73) -> 3027.2146 | D75: =SUM(D65,D67,D72,D73) -> 1517.0703 | E75: MJ
A77: Uuden osan materiaalin energia | B77: =B12*B50 -> 27177.29 | C77: =C12*C50 -> 27177.29 | D77: =D12*D50 -> 27177.29 | E77: MJ
A79: Suorakerrostuslaite hankintahinta | B79: 400000 | C79: 400000 | D79: 400000 | E79: €
A80: Koneistuskeskus hankintahinta | B80: 200000 | C80: 200000 | D80: 200000 | E80: €
A81: Laitteiston amortisointiaika | B81: 8 | C81: 8 | D81: 8 | E81: v
A82: Laitteiston ylläpitokulu, % hinnasta | B82: 0.05 | C82: 0.05 | D82: 0.05 | E82: %
A83: Suorakerrostuslaite käyttöaste | B83: 2000 | C83: 2000 | D83: 2000 | E83: h/v | F83: Käytössä 8h/päivä joka työpäivä ilman lomia
A84: Koneistuskeskus käyttöaste | B84: 2000 | C84: 2000 | D84: 2000 | E84: h/v | F84: Käytössä 8h/päivä joka työpäivä ilman lomia
A85: Operaattorin aika, kerrostus | B85: =1+(B37*0.3) -> 2.3136074 | C85: =1+(C37*0.3) -> 3.6841768 | D85: =1+(D37*0.3) -> 5.5933014 | E85: h | F85: Oletus; laitteen työtä valvotaan 1/3 ajasta, lisäksi yht. tunti valmistelua ja purkua varten
A86: Operaattorin aika, koneistus | B86: =1+(B40*0.3) -> 1.9862716 | C86: =1+(C40*0.3) -> 1.5103203 | D86: =1+(D40*0.3) -> 1.5103203 | E86: h | F86: Oletus; laitteen työtä valvotaan 1/3 ajasta, lisäksi yht. tunti valmistelua ja purkua varten
A88: Tuntihinta suorakerrostuslaite | B88: =((B79/B81)+(B79/B81)*B82)/B83 -> 26.25 | C88: =((C79/C81)+(C79/C81)*C82)/C83 -> 26.25 | D88: =((D79/D81)+(D79/D81)*D82)/D83 -> 26.25 | E88: €/h
A89: Tuntihinta koneistuskeskus | B89: =((B80/B81)+(B80/B81)*B82)/B84 -> 13.125 | C89: =((C80/C81)+(C80/C81)*C82)/C84 -> 13.125 | D89: =((D80/D81)+(D80/D81)*D82)/D84 -> 13.125 | E89: €/h
A90: Hinta Argon | B90: 0.02 | C90: 0.02 | D90: 0.02 | E90: €/l | F90: Olettaen 20€/m3
A91: Hinta Kaasu 2 | B91: 0.01 | C91: 0.01 | D91: 0.01 | E91: €/l | F91: Esimerkki 10€/m3 hiilidioksidille
A92: Hinta lanka/jauho | B92: {=_xlfn.IFS(UI!$C$6=UI!$G$7,Materiaali!B29,UI!$C$6=UI!$H$7,Materiaali!E29,UI!$C$6=UI!$I$7,Materiaali!H29,UI!$C$6=UI!$J$7,Materiaali!K29,UI!$C$6=UI!$K$7,Materiaali!N29)} -> 65 | C92: {=_xlfn.IFS(UI!$C$6=UI!$G$7,Materiaali!C29,UI!$C$6=UI!$H$7,Materiaali!F29,UI!$C$6=UI!$I$7,Materiaali!I29,UI!$C$6=UI!$J$7,Materiaali!L29,UI!$C$6=UI!$K$7,Materiaali!O29)} -> 170 | D92: {=_xlfn.IFS(UI!$C$6=UI!$G$7,Materiaali!D29,UI!$C$6=UI!$H$7,Materiaali!G29,UI!$C$6=UI!$I$7,Materiaali!J29,UI!$C$6=UI!$J$7,Materiaali!M29,UI!$C$6=UI!$K$7,Materiaali!P29)} -> 65 | E92: €/kg
A93: Hinta sähkö | B93: =0.15/3.6 -> 0.041666667 | C93: =0.15/3.6 -> 0.041666667 | D93: =0.15/3.6 -> 0.041666667 | E93: €/MJ | F93: Olettaen 0.15€/kWh total
A94: Tuntihinta operaattori | B94: 40 | C94: 40 | D94: 40 | E94: €/h
A96: Kulut suorakerrostuslaite | B96: =B88*B37 -> 114.94065 | C96: =C88*C37 -> 234.86547 | D96: =D88*D37 -> 401.91388 | E96: €
A97: Kulut lisäaine | B97: =(B18/B46)*B92 -> 690.99893 | C97: =(C18/C46)*C92 -> 2281.5502 | D97: =(D18/D46)*D92 -> 459.1355 | E97: €
A98: Kulut suojakaasu | B98: =(B32*B37*3600)*B42*B90+(B32*B37*3600)*B43*B91 -> 94.579733 | C98: =(C32*C37*3600)*C42*C90+(C32*C37*3600)*C43*C91 -> 101.99872 | D98: =(D32*D37*3600)*D42*D90+(D32*D37*3600)*D43*D91 -> 367.46411 | E98: €
A99: Kulut prosessin sähkö | B99: =(B69+B71)*B93 -> 3.2275334 | C99: =(C69+C71)*C93 -> 13.868247 | D99: =(D69+D71)*D93 -> 9.492823 | E99: €
A100: Kulut operaattori (suorakerrostus) | B100: =B94*B85 -> 92.544296 | C100: =C94*C85 -> 147.36707 | D100: =D94*D85 -> 223.73206 | E100: €
A101: Kulut suorakerrostus total | B101: =SUM(B96:B100) -> 996.29114 | C101: =SUM(C96:C100) -> 2779.6497 | D101: =SUM(D96:D100) -> 1461.7384
A103: Kulu koneistuksen sähkö | B103: =B93*B73 -> 2.6944672 | C103: =C93*C73 -> 1.6105992 | D103: =D93*D73 -> 1.6105992 | E103: €
A104: Kulut operaattori (koneistus) | B104: =B94*B86 -> 79.450864 | C104: =C94*C86 -> 60.412812 | D104: =D94*D86 -> 60.412812 | E104: €
A105: Kulut koneistuslaite | B105: =B40*B89 -> 43.149382 | C105: =C40*C89 -> 22.326514 | D105: =D40*D89 -> 22.326514 | E105: €
A106: Kulut esi/jälkikoneistus | B106: =SUM(B103:B105) -> 125.29471 | C106: =SUM(C103:C105) -> 84.349925 | D106: =SUM(D103:D105) -> 84.349925
A108: Korjauksen hinta, total | B108: =SUM(B101,B106) -> 1121.5858 | C108: =SUM(C101,C106) -> 2863.9997 | D108: =SUM(D101,D106) -> 1546.0883 | E108: €
A111: Pinnoitus käyttöiän kerroin | B111: {=_xlfn.IFS(UI!$C$6=UI!$G$7,Materiaali!B30,UI!$C$6=UI!$H$7,Materiaali!E30,UI!$C$6=UI!$I$7,Materiaali!H30,UI!$C$6=UI!$J$7,Materiaali!K30,UI!$C$6=UI!$K$7,Materiaali!N30)} -> 2 | C111: {=_xlfn.IFS(UI!$C$6=UI!$G$7,Materiaali!C30,UI!$C$6=UI!$H$7,Materiaali!F30,UI!$C$6=UI!$I$7,Materiaali!I30,UI!$C$6=UI!$J$7,Materiaali!L30,UI!$C$6=UI!$K$7,Materiaali!O30)} -> 2 | D111: {=_xlfn.IFS(UI!$C$6=UI!$G$7,Materiaali!D30,UI!$C$6=UI!$H$7,Materiaali!G30,UI!$C$6=UI!$I$7,Materiaali!J30,UI!$C$6=UI!$J$7,Materiaali!M30,UI!$C$6=UI!$K$7,Materiaali!P30)} -> 2 | F111: Kuinka monta kertaa kauemmin korjattu kestää vrt teräs. Stellitelle arvioitu 2x.
A112: Alkup. Käyttöiän kerroin | B112: =Materiaali!E31 -> 1 | C112: =Materiaali!F31 -> 1 | D112: =Materiaali!G31 -> 1 | F112: Oletus aina teräs
A113: Alkuperäinen käyttöikä | B113: =UI!$C$45 -> 10 | C113: =UI!$C$45 -> 10 | D113: =UI!$C$45 -> 10 | E113: v
A114: Alkuperäinen elinikä | B114: =UI!$C$43 -> 2 | C114: =UI!$C$43 -> 2 | D114: =UI!$C$43 -> 2 | E114: v
A115: Osan elinikä pinnoituksen jälkeen | B115: =(B111/B112)*B114 -> 4 | C115: =(C111/C112)*C114 -> 4 | D115: =(D111/D112)*D114 -> 4 | E115: v
A116: Uuden osan hinta | B116: =UI!$C$41 -> 0 | C116: =UI!$C$41 -> 0 | D116: =UI!$C$41 -> 0 | E116: €
A117: Korjausten elinkaarikustannus | B117: =(B113/Laskenta!B115)*B108 -> 2803.9646 | C117: =(C113/Laskenta!C115)*C108 -> 7159.9992 | D117: =(D113/Laskenta!D115)*D108 -> 3865.2207 | E117: € | F117: Korjausten kustannus käyttöiän aikana huomioiden osan eliniän pidennyksen
A118: Korjausten elinkaarikustannus ilman pidennystä | B118: =B108*B113/B114 -> 5607.9292 | C118: =C108*C113/C114 -> 14319.998 | D118: =D108*D113/D114 -> 7730.4415 | E118: € | F118: Korjausten kustannus käyttöiän aikana ilman osan eliniän pidennystä
A119: Uusien osien kustannukset käyttöaikana | B119: =B116*(UI!$C$45/UI!$C$43) -> 0 | C119: =C116*(UI!$C$45/UI!$C$43) -> 0 | D119: =D116*(UI!$C$45/UI!$C$43) -> 0 | E119: €
A120: Uudelleenpinnoitusten energia käyttöaikana | B120: =B113/B115*B75 -> 4544.8977 | C120: =C113/C115*C75 -> 7568.0364 | D120: =D113/D115*D75 -> 3792.6759
A121: Uusien osien energia käyttöaikana | B121: =B113/B114*B77 -> 135886.45 | C121: =C113/C114*C77 -> 135886.45 | D121: =D113/D114*D77 -> 135886.45
...

Sheet Energia

Sheet Kustannus
